BEGIN:VCALENDAR
VERSION:2.0
PRODID:-//Contratero//ES
CALSCALE:GREGORIAN
METHOD:PUBLISH
BEGIN:VEVENT
UID:SSCC PA 98/22@contratero.es
DTSTAMP:20260423T145310Z
DTSTART:20220613T235959
DTEND:20220614T005959
SUMMARY:Cierre: Servicios de atención a usuarios y administración 
DESCRIPTION:Servicios de atención a usuarios y administración de sistemas del Centre d’Explotació dels Sistemes d’Informació Corporatius del Servei de Salut\\n\\nOrganismo: Servicio de Salud de las Illes Balears\\n\\nVer en Contratero: https://contratero.es/contracts/SSCC PA 98/22
URL:https://contratero.es/contracts/SSCC PA 98/22
STATUS:CONFIRMED
BEGIN:VALARM
TRIGGER:-P1D
ACTION:DISPLAY
DESCRIPTION:Recordatorio: Servicios de atención a usuari
END:VALARM
END:VEVENT
END:VCALENDAR